BEGIN:VCALENDAR
VERSION:2.0
PRODID:-//Caitriona O&#039;Meara - ECPv5.13.0//NONSGML v1.0//EN
CALSCALE:GREGORIAN
METHOD:PUBLISH
X-WR-CALNAME:Caitriona O&#039;Meara
X-ORIGINAL-URL:https://www.caitrionaomeara.ie
X-WR-CALDESC:Events for Caitriona O&#039;Meara
BEGIN:VTIMEZONE
TZID:UTC
BEGIN:STANDARD
TZOFFSETFROM:+0000
TZOFFSETTO:+0000
TZNAME:UTC
DTSTART:20160101T000000
END:STANDARD
END:VTIMEZONE
BEGIN:VEVENT
DTSTART;TZID=UTC:20161009T080000
DTEND;TZID=UTC:20161009T170000
DTSTAMP:20260425T121209
CREATED:20161009T125241Z
LAST-MODIFIED:20161009T125241Z
UID:254-1476000000-1476032400@www.caitrionaomeara.ie
SUMMARY:join-up today
DESCRIPTION:join our latest course today.
URL:https://www.caitrionaomeara.ie/event/join-up-today/
END:VEVENT
END:VCALENDAR