BEGIN:VCALENDAR
VERSION:2.0
PRODID:-//Caitriona O&#039;Meara - ECPv5.13.0//NONSGML v1.0//EN
CALSCALE:GREGORIAN
METHOD:PUBLISH
X-WR-CALNAME:Caitriona O&#039;Meara
X-ORIGINAL-URL:https://www.caitrionaomeara.ie
X-WR-CALDESC:Events for Caitriona O&#039;Meara
BEGIN:VTIMEZONE
TZID:Europe/London
BEGIN:DAYLIGHT
TZOFFSETFROM:+0000
TZOFFSETTO:+0100
TZNAME:BST
DTSTART:20190331T010000
END:DAYLIGHT
BEGIN:STANDARD
TZOFFSETFROM:+0100
TZOFFSETTO:+0000
TZNAME:GMT
DTSTART:20191027T010000
END:STANDARD
END:VTIMEZONE
BEGIN:VEVENT
DTSTART;TZID=Europe/London:20190605T190000
DTEND;TZID=Europe/London:20190703T210000
DTSTAMP:20260424T191431
CREATED:20190629T100326Z
LAST-MODIFIED:20190629T101401Z
UID:459-1559761200-1562187600@www.caitrionaomeara.ie
SUMMARY:5 week Women's Personal Development Programme
DESCRIPTION:
URL:https://www.caitrionaomeara.ie/event/5-week-womens-personal-development-programme/
LOCATION:The Thatch\, Kinnafad\, Edenderry\, Offaly\, Off\, Ireland
ORGANIZER;CN="Caitriona":MAILTO:caitriona_omeara@yahoo.com
END:VEVENT
END:VCALENDAR